BEGIN:VCALENDAR
VERSION:2.0
PRODID:-//BPOE Lodge 1181 - ECPv6.15.20//NONSGML v1.0//EN
CALSCALE:GREGORIAN
METHOD:PUBLISH
X-ORIGINAL-URL:https://bpoe1181.org
X-WR-CALDESC:Events for BPOE Lodge 1181
REFRESH-INTERVAL;VALUE=DURATION:PT1H
X-Robots-Tag:noindex
X-PUBLISHED-TTL:PT1H
BEGIN:VTIMEZONE
TZID:America/Los_Angeles
BEGIN:DAYLIGHT
TZOFFSETFROM:-0800
TZOFFSETTO:-0700
TZNAME:PDT
DTSTART:20250309T100000
END:DAYLIGHT
BEGIN:STANDARD
TZOFFSETFROM:-0700
TZOFFSETTO:-0800
TZNAME:PST
DTSTART:20251102T090000
END:STANDARD
BEGIN:DAYLIGHT
TZOFFSETFROM:-0800
TZOFFSETTO:-0700
TZNAME:PDT
DTSTART:20260308T100000
END:DAYLIGHT
BEGIN:STANDARD
TZOFFSETFROM:-0700
TZOFFSETTO:-0800
TZNAME:PST
DTSTART:20261101T090000
END:STANDARD
BEGIN:DAYLIGHT
TZOFFSETFROM:-0800
TZOFFSETTO:-0700
TZNAME:PDT
DTSTART:20270314T100000
END:DAYLIGHT
BEGIN:STANDARD
TZOFFSETFROM:-0700
TZOFFSETTO:-0800
TZNAME:PST
DTSTART:20271107T090000
END:STANDARD
END:VTIMEZONE
BEGIN:VEVENT
DTSTART;TZID=America/Los_Angeles:20260327T190000
DTEND;TZID=America/Los_Angeles:20260327T190000
DTSTAMP:20260420T074811
CREATED:20260220T191823Z
LAST-MODIFIED:20260220T191823Z
UID:10005182-1774638000-1774638000@bpoe1181.org
SUMMARY:Joker's Wild Drawing
DESCRIPTION:Tickets may be purchased during the week by members at the office or immediately prior to the drawing.
URL:https://bpoe1181.org/event/jokers-wild-drawing-10
LOCATION:Bremerton Elks Lodge #1181\, 4131 Pine Road NE\, Bremerton\, WA\, 98310\, United States
CATEGORIES:Competition,Joker's Wild,Members Only
ATTACH;FMTTYPE=image/png:https://bpoe1181.org/wp-content/uploads/2024/06/TheJokersWild.png
ORGANIZER;CN="Bremerton Elks Lodge #1181":MAILTO:office@bpoe1181.org
GEO:47.6035911;-122.6434606
X-APPLE-STRUCTURED-LOCATION;VALUE=URI;X-ADDRESS=Bremerton Elks Lodge #1181 4131 Pine Road NE Bremerton WA 98310 United States;X-APPLE-RADIUS=500;X-TITLE=4131 Pine Road NE:geo:-122.6434606,47.6035911
END:VEVENT
END:VCALENDAR